BEGIN:VCALENDAR
VERSION:2.0
PRODID:-//wp-events-plugin.com//7.2.3.1//EN
TZID:Europe/Berlin
X-WR-TIMEZONE:Europe/Berlin
BEGIN:VEVENT
UID:3934@bridge-club-leipzig.de
DTSTART;TZID=Europe/Berlin:20260704T130000
DTEND;TZID=Europe/Berlin:20260704T163000
DTSTAMP:20260310T104647Z
URL:https://www.bridge-club-leipzig.de/events/sommerfest-in-amberg/
SUMMARY:Sommerfest in Amberg
DESCRIPTION:Sommerfest/Klaus-Appelt Pokal\n\nnähere Infos: siehe Mail vom 
 8.3.2026 oder in der direkt in der Einladung:\;\n\nEinladung Sommerfest 20
 26
CATEGORIES:Einladungen
END:VEVENT
BEGIN:VTIMEZONE
TZID:Europe/Berlin
X-LIC-LOCATION:Europe/Berlin
BEGIN:DAYLIGHT
DTSTART:20260329T030000
TZOFFSETFROM:+0100
TZOFFSETTO:+0200
TZNAME:CEST
END:DAYLIGHT
END:VTIMEZONE
END:VCALENDAR